BEGIN:VCALENDAR
PRODID:-//eluceo/ical//2.0/EN
VERSION:2.0
CALSCALE:GREGORIAN
BEGIN:VEVENT
UID:8a331c0364adc174d3a09c4c1813f4b3
DTSTAMP:20260423T091759Z
SUMMARY:Statutaire vergadering met gastspreker Ignace Schops
DESCRIPTION:Website: http://www.hoteldelourdes.be/\nSpeaker(s): 
URL:https://gent-noord.rotary2130.org/en/agenda/show/89088
DTSTART;TZID=Europe/Zurich:20260108T191500
DTEND;TZID=Europe/Zurich:20260108T220000
LOCATION:Hotel De Lourdes\, Onze-Lieve-Vrouwdreef 6\, 9041 OOSTAKKER (GENT)
 \, België
CATEGORIES:Rotary
END:VEVENT
BEGIN:VTIMEZONE
TZID:Europe/Zurich
BEGIN:STANDARD
DTSTART:20260108T191500
TZNAME:CET
TZOFFSETTO:+0100
TZOFFSETFROM:+0100
END:STANDARD
END:VTIMEZONE
END:VCALENDAR
